BEGIN:VCALENDAR
VERSION:2.0
PRODID:-//Erlebnisfaktur - ECPv5.5.0.1//NONSGML v1.0//EN
CALSCALE:GREGORIAN
METHOD:PUBLISH
X-WR-CALNAME:Erlebnisfaktur
X-ORIGINAL-URL:https://erlebnisfaktur.de
X-WR-CALDESC:Veranstaltungen für Erlebnisfaktur
BEGIN:VTIMEZONE
TZID:Europe/Berlin
BEGIN:DAYLIGHT
TZOFFSETFROM:+0100
TZOFFSETTO:+0200
TZNAME:CEST
DTSTART:20260329T010000
END:DAYLIGHT
BEGIN:STANDARD
TZOFFSETFROM:+0200
TZOFFSETTO:+0100
TZNAME:CET
DTSTART:20261025T010000
END:STANDARD
END:VTIMEZONE
BEGIN:VEVENT
DTSTART;TZID=Europe/Berlin:20260222T173000
DTEND;TZID=Europe/Berlin:20260222T203000
DTSTAMP:20260423T224845
CREATED:20240314T113538Z
LAST-MODIFIED:20251106T163832Z
UID:7686-1771781400-1771792200@erlebnisfaktur.de
SUMMARY:Mitmachkrimi "Das Testament"
DESCRIPTION:am Sonntag\, den 22.02.2026\nEinlass 17:00 Uhr\, Beginn 17:30 Uhr\, Eintritt 49\,00 €\nDarin enthalten ist das Mitmach-Krimi-Event\, Aperitif und ein „3-Gang Menue“\n(Exclusive weiterer Getränke) \nTickets erhalten Sie direkt im Brauhaus zur Krone! \nVerbringen Sie einen vergnüglichen Abend mit einem Menü und einem Mordfall!\nSeien Sie an diesem Abend ein zum Spiel gehörender Charakter!\nAber keine Angst: Schauspielern muss niemand.\nSie sitzen gemutlich beisammen und versuchen durch gezielte Fragen\, Verdächtigungen und Vermutungen\, dem Täter auf die Spur zu kommen!\nSpaß ist garantiert! \nDas ist passiert: \nDie berühmte Konzertpianistin Frieda Lengnowski ist nach kurzer\, schwerer Krankheit in ihrer Kölner Villa verstorben. \nDa sich kein Testament findet\, wird  die Schwester der Verstorbenen als Erbin des umfangreichen Vermögens ermittelt. \nOb dies wirklich der Wunsch der Erblasserin war? Und starb Frieda tatsächlich  eines natürlichen Todes oder wurde  nachgeholfen? \nSicher gelingt es Ihnen\, mit Ihrem TEAM am Tisch etwas Licht in diesen Fall zu bringen. \n  \n 
URL:https://erlebnisfaktur.de/veranstaltung/mitspielkrimi-irrtum-cat-3-2/
LOCATION:Hotel Brauhaus zur Krone\, Hauptstraße 78-80\, Bergheim\, NRW\, 50126\, Deutschland
CATEGORIES:Krimi-Erlebnis
ATTACH;FMTTYPE=image/jpeg:https://erlebnisfaktur.de/wp-content/uploads/aaron-burden-88785-unsplash-scaled.jpg
ORGANIZER;CN="Erlebnisfaktur":MAILTO:info@erlebnisfaktur.de
END:VEVENT
END:VCALENDAR