BEGIN:VCALENDAR
VERSION:2.0
PRODID:-//Erlebnisfaktur - ECPv5.5.0.1//NONSGML v1.0//EN
CALSCALE:GREGORIAN
METHOD:PUBLISH
X-WR-CALNAME:Erlebnisfaktur
X-ORIGINAL-URL:https://erlebnisfaktur.de
X-WR-CALDESC:Veranstaltungen für Erlebnisfaktur
BEGIN:VTIMEZONE
TZID:Europe/Berlin
BEGIN:DAYLIGHT
TZOFFSETFROM:+0100
TZOFFSETTO:+0200
TZNAME:CEST
DTSTART:20260329T010000
END:DAYLIGHT
BEGIN:STANDARD
TZOFFSETFROM:+0200
TZOFFSETTO:+0100
TZNAME:CET
DTSTART:20261025T010000
END:STANDARD
END:VTIMEZONE
BEGIN:VEVENT
DTSTART;TZID=Europe/Berlin:20260130T190000
DTEND;TZID=Europe/Berlin:20260130T220000
DTSTAMP:20260422T084143
CREATED:20251106T160253Z
LAST-MODIFIED:20251204T130451Z
UID:8321-1769799600-1769810400@erlebnisfaktur.de
SUMMARY:Mitmachkrimi "Familienbande"
DESCRIPTION:KrimiEvent – Ein mörderischer Spaß zum Mitspielen im Bahnsteig 1 \nEs ist wieder Zeit für Mitmachkrimi im Bahnsteig 1.\nWir spielen den Krimi “Familienbande”\nWer findet den Mörder? \nFreitag\,  30. Januar 2026 | 19:00 Uhr \n72\,50 Euro pro Person \nDer Fall: \nHaben Sie schon vom tragischen Ende des Jagdaufsehers Willi Schmitz gehört?\nEr fiel unglücklich vom Hochstand und brach sich offensichtlich das Genick. Und ob dies nicht genug Kummer für seine Frau wäre\, wird in der Nacht nach dem Unglück auch noch in das gemeinsame Haus eingebrochen. Gestohlen wurde nichts\, aber alles durchwühlt.\nWas haben die Einbrecher gesucht? Und ist Willi tatsächlich verunglückt oder wurde nachgeholfen? \nDie Gerüchteküche in der Eifel brodelt jedenfalls\, wie früher die Vulkane in der sanft geschwungenen Hügellandschaft. \nDazu servieren wir ein 3-Gang Menü mit Aperitif “Blutrausch” \n  \nReservierung unter 02643 90 22 435 oder info@bahnsteig1.org
URL:https://erlebnisfaktur.de/veranstaltung/mitspielkrimi-irrtum-cat-2-3-2-2-3-3-2/
LOCATION:Bahnsteig 1\, Eurodeplatz 1\, Mayschoß\, 53508\, Deutschland
CATEGORIES:Mitmachkrimi
ATTACH;FMTTYPE=image/jpeg:https://erlebnisfaktur.de/wp-content/uploads/55bfaf66-8cee-4bbd-a043-fb6e4a56ba8e.jpeg
ORGANIZER;CN="Erlebnisfaktur":MAILTO:info@erlebnisfaktur.de
END:VEVENT
END:VCALENDAR