BEGIN:VCALENDAR
VERSION:2.0
PRODID:-//Erlebnisfaktur - ECPv5.5.0.1//NONSGML v1.0//EN
CALSCALE:GREGORIAN
METHOD:PUBLISH
X-WR-CALNAME:Erlebnisfaktur
X-ORIGINAL-URL:https://erlebnisfaktur.de
X-WR-CALDESC:Veranstaltungen für Erlebnisfaktur
BEGIN:VTIMEZONE
TZID:Europe/Berlin
BEGIN:DAYLIGHT
TZOFFSETFROM:+0100
TZOFFSETTO:+0200
TZNAME:CEST
DTSTART:20230326T010000
END:DAYLIGHT
BEGIN:STANDARD
TZOFFSETFROM:+0200
TZOFFSETTO:+0100
TZNAME:CET
DTSTART:20231029T010000
END:STANDARD
END:VTIMEZONE
BEGIN:VEVENT
DTSTART;TZID=Europe/Berlin:20231019T190000
DTEND;TZID=Europe/Berlin:20231019T223000
DTSTAMP:20260419T212303
CREATED:20230809T132913Z
LAST-MODIFIED:20230825T110728Z
UID:7491-1697742000-1697754600@erlebnisfaktur.de
SUMMARY:Event-Krimi „Kommissar Landbrenner und das Quiz in den Tod"
DESCRIPTION:„Kommissar Landbrenner ermittelt… in: Quiz in den Tod“\nEin weiterer spannender Krimiabend für Hobbyermittler und Genießer. \nZur Jagd nach dem Täter werden Sie mit exklusiv zubereiteten Spezialitäten des Landbrenners verwöhnt. Im Kartenpreis sind ein Begrüßungsgetränk sowie Speisen (3 Gänge) enthalten. \nDer Fall:\nWillkommen zum berühmten Fernsehquiz „Einer weiß Alles“! \nSeien Sie live bei der Aufzeichnung dabei\, wenn der bekannte Moderator Jaques Augouston mit Charme und Esprit den drei Kandidaten und Kandidatinnen die spannendsten Fragen stellt. \nAber nur eine Person kann den Hauptpreis gewinnen. \nUnd vielleicht wird die Konkurrenz ja tödlich sein….. \nSeien Sie als Gast und Zeuge mit dabei!\nGenießen Sie eine einmalige Atmosphäre!\nFreuen Sie sich auf einen äußerst erlebnisreichen Abend! \n\n\n\nLüften Sie dabei die Geheimnisse der Verdächtigen und finden Sie den Mörder! \nRestkarten erhalten Sie im Restaurant Landbrenner \nVeranstaltungsseite Landbrenner
URL:https://erlebnisfaktur.de/veranstaltung/event-krimi-landbrenner-2-2-3/
LOCATION:Landbrenner – Restaurant im Gut Clarenhof\, Bonnstraße / Gut Clarenhof 6\, Frechen\, NRW\, 50226\, Deutschland
CATEGORIES:Krimi-Erlebnis,Landbrenner
ATTACH;FMTTYPE=image/jpeg:https://erlebnisfaktur.de/wp-content/uploads/Quiz2.jpg
ORGANIZER;CN="Erlebnisfaktur":MAILTO:info@erlebnisfaktur.de
END:VEVENT
END:VCALENDAR