BEGIN:VCALENDAR
VERSION:2.0
PRODID:-//Erlebnisfaktur - ECPv5.5.0.1//NONSGML v1.0//EN
CALSCALE:GREGORIAN
METHOD:PUBLISH
X-WR-CALNAME:Erlebnisfaktur
X-ORIGINAL-URL:https://erlebnisfaktur.de
X-WR-CALDESC:Veranstaltungen für Erlebnisfaktur
BEGIN:VTIMEZONE
TZID:Europe/Berlin
BEGIN:DAYLIGHT
TZOFFSETFROM:+0100
TZOFFSETTO:+0200
TZNAME:CEST
DTSTART:20230326T010000
END:DAYLIGHT
BEGIN:STANDARD
TZOFFSETFROM:+0200
TZOFFSETTO:+0100
TZNAME:CET
DTSTART:20231029T010000
END:STANDARD
END:VTIMEZONE
BEGIN:VEVENT
DTSTART;TZID=Europe/Berlin:20230921T193000
DTEND;TZID=Europe/Berlin:20230921T223000
DTSTAMP:20260421T173811
CREATED:20181009T140327Z
LAST-MODIFIED:20181009T140327Z
UID:7450-1695324600-1695335400@erlebnisfaktur.de
SUMMARY:Mitmachkrimi
DESCRIPTION:  \n  \nSeien Sie mit Spaß und ein wenig Fingerfood klassich in der Kneipe und rund rum bei einem Mitmachkrimi dabei! \nWir werden wieder in und um die WunderBar in einem Fall ermitteln\, der so oder so ähnlich passiert sein könnte! \nAnmeldungen nimmt die WunderBar gerne entgegen! \n  \nSpaß ist garantiert!
URL:https://erlebnisfaktur.de/veranstaltung/mitspielkrimi-erft/
LOCATION:WunderbaR-Konsum\, Heerstr. 270\, Kerpen\, NRW\, 50169\, Deutschland
CATEGORIES:Krimi-Erlebnis
ATTACH;FMTTYPE=image/jpeg:https://erlebnisfaktur.de/wp-content/uploads/shutterstock_252626764.jpg
ORGANIZER;CN="Erlebnisfaktur":MAILTO:info@erlebnisfaktur.de
END:VEVENT
END:VCALENDAR