BEGIN:VCALENDAR
VERSION:2.0
PRODID:-//Erlebnisfaktur - ECPv5.5.0.1//NONSGML v1.0//EN
CALSCALE:GREGORIAN
METHOD:PUBLISH
X-WR-CALNAME:Erlebnisfaktur
X-ORIGINAL-URL:https://erlebnisfaktur.de
X-WR-CALDESC:Veranstaltungen für Erlebnisfaktur
BEGIN:VTIMEZONE
TZID:Europe/Berlin
BEGIN:DAYLIGHT
TZOFFSETFROM:+0100
TZOFFSETTO:+0200
TZNAME:CEST
DTSTART:20230326T010000
END:DAYLIGHT
BEGIN:STANDARD
TZOFFSETFROM:+0200
TZOFFSETTO:+0100
TZNAME:CET
DTSTART:20231029T010000
END:STANDARD
END:VTIMEZONE
BEGIN:VEVENT
DTSTART;TZID=Europe/Berlin:20230909T190000
DTEND;TZID=Europe/Berlin:20230909T230000
DTSTAMP:20260422T124328
CREATED:20200209T203205Z
LAST-MODIFIED:20200209T203205Z
UID:7473-1694286000-1694300400@erlebnisfaktur.de
SUMMARY:Mitmachkrimi "Fahrt in den Tod"
DESCRIPTION:am Samstag\, den 09.09.2023\nEinlass 18:30 Uhr\, Beginn 19:00 Uhr\, Eintritt 69\,00 €\nDarin enthalten ist das Mitmach-Krimi-Event\, Aperitif und ein „4-Gang Menue“\n(Exclusive weiterer Getränke) \nVerbringen Sie einen vergnüglichen Abend mit einem Menü und einem Mordfall!\nSeien Sie an diesem Abend ein zum Spiel gehörender Charakter!\nAber keine Angst: Schauspielern muss niemand.\nSie sitzen gemutlich beisammen und versuchen durch gezielte Fragen\, Verdächtigungen und Vermutungen\, dem Täter auf die Spur zu kommen!\nSpaß ist garantiert! \nDas ist passiert: \nDer Kegelclub „Alle Neune“ aus Köln startet zur jährlichen Kegeltour. Die Reise beginnt am Kölner Hauptbahnhof und soll nach Mailand führen. Doch bevor man im sonnigen Italien ankommt\, gibt es eine Tote zu beklagen\, die den Zug vermutlich auf höchst unfreiwillige Art und noch dazu bei voller Fahrt verlassen hat. \nWar es Mord oder doch ein Unfall und sollte wirklich das Opfer sterben? \nEine Verwechslung kann keinesfalls ausgeschlossen werden.
URL:https://erlebnisfaktur.de/veranstaltung/mitspielkrimi-irrtum-cat/
LOCATION:Cher`s Wein und Lebensart\, Rösberger Str. 70\, Bornheim\, NRW\, 53332\, Deutschland
CATEGORIES:Krimi-Erlebnis
ATTACH;FMTTYPE=image/jpeg:https://erlebnisfaktur.de/wp-content/uploads/161144783-h-720.jpg
ORGANIZER;CN="Erlebnisfaktur":MAILTO:info@erlebnisfaktur.de
END:VEVENT
END:VCALENDAR