BEGIN:VCALENDAR
VERSION:2.0
PRODID:-//Erlebnisfaktur - ECPv5.5.0.1//NONSGML v1.0//EN
CALSCALE:GREGORIAN
METHOD:PUBLISH
X-WR-CALNAME:Erlebnisfaktur
X-ORIGINAL-URL:https://erlebnisfaktur.de
X-WR-CALDESC:Veranstaltungen für Erlebnisfaktur
BEGIN:VTIMEZONE
TZID:Europe/Berlin
BEGIN:DAYLIGHT
TZOFFSETFROM:+0100
TZOFFSETTO:+0200
TZNAME:CEST
DTSTART:20250330T010000
END:DAYLIGHT
BEGIN:STANDARD
TZOFFSETFROM:+0200
TZOFFSETTO:+0100
TZNAME:CET
DTSTART:20251026T010000
END:STANDARD
END:VTIMEZONE
BEGIN:VEVENT
DTSTART;TZID=Europe/Berlin:20251114T180000
DTEND;TZID=Europe/Berlin:20251114T210000
DTSTAMP:20260420T125426
CREATED:20250826T093625Z
LAST-MODIFIED:20250827T091306Z
UID:8222-1763143200-1763154000@erlebnisfaktur.de
SUMMARY:Event-Krimi "Unheilvoller Advent"
DESCRIPTION:Auf der alljährlichen Sitzung zur Planung der weihnachtlichen Geschenkeverteilung teilt der Weihnachtsmann mit\, dass er seinen im Sommer neu aufgestellten Businessplan umsetzen möchte.\nChristkind\, Weihnachtsengel\, der Sprecher der Elfen-Gewerkschaft und nicht zuletzt Rudolph als oberster Logistik-Experte sind mit den Plänen allerdings nur wenig einverstanden!\nDa bleiben interne Konflikte in der sonst so friedvollen Adventszeit nicht aus!\nUnd wer weiß\, ob Weihnachten noch so bleiben wird\, wie es war…Seien Sie als Gast und Zeuge mit dabei!\nGenießen Sie eine einmalige Atmosphäre!\nFreuen Sie sich auf einen äußerst erlebnisreichen Abend! \nEs erwartet Sie ein aussergewöhnlicher Kriminalfall inklusive \n– Willkommens-Sekt \n– Saisonales Krewelshofer Abend-Buffet (Suppe\, Hauptspeisen und Dessertvariationen \n\n\nEinlass ist ab 17:00 Uhr.
URL:https://erlebnisfaktur.de/veranstaltung/krewelshof-lohmat/
LOCATION:Krewelshof Lohmar\, Krewelshof 1\, Lohmar\, 53797\, Deutschland
CATEGORIES:Krimi-Erlebnis
ATTACH;FMTTYPE=image/jpeg:https://erlebnisfaktur.de/wp-content/uploads/shutterstock_519328690.jpg
ORGANIZER;CN="Erlebnisfaktur":MAILTO:info@erlebnisfaktur.de
END:VEVENT
END:VCALENDAR