BEGIN:VCALENDAR
VERSION:2.0
PRODID:-//Erlebnisfaktur - ECPv5.5.0.1//NONSGML v1.0//EN
CALSCALE:GREGORIAN
METHOD:PUBLISH
X-WR-CALNAME:Erlebnisfaktur
X-ORIGINAL-URL:https://erlebnisfaktur.de
X-WR-CALDESC:Veranstaltungen für Erlebnisfaktur
BEGIN:VTIMEZONE
TZID:Europe/Berlin
BEGIN:DAYLIGHT
TZOFFSETFROM:+0100
TZOFFSETTO:+0200
TZNAME:CEST
DTSTART:20260329T010000
END:DAYLIGHT
BEGIN:STANDARD
TZOFFSETFROM:+0200
TZOFFSETTO:+0100
TZNAME:CET
DTSTART:20261025T010000
END:STANDARD
END:VTIMEZONE
BEGIN:VEVENT
DTSTART;TZID=Europe/Berlin:20260417T180000
DTEND;TZID=Europe/Berlin:20260417T210000
DTSTAMP:20260420T190511
CREATED:20250821T105652Z
LAST-MODIFIED:20260306T114041Z
UID:8217-1776448800-1776459600@erlebnisfaktur.de
SUMMARY:Event-Krimi "Der Mörder ist immer der Gärtner"
DESCRIPTION:Verbringen Sie einen unterhaltsamen Abend mit einem Mordfall zum Mitraten. \nBunte Blumen\, knackiges Gemüse\, grüner Rasen und heilsame Kräuter. \n\nDas ist die Kleingartensiedlung „Kleingärtner mit Herz und Seele e.V.“.\nDoch der Schein trügt.\nAm Morgen nach der Mitgliederversammlung wird der Vorsitzende des Vereins Alfred Klein tot aufgefunden.\nHat der Tod etwas mit dem geplanten Neubauprojekt der Stadt zu tun? Oder hat der seit langem tobende Nachbarschaftskrieg ein tödliches Ende genommen?\nDie verdächtigen Kleingärtner verstricken sich im Laufe des Abends zunehmend im Gewirr der Ermittlungsergebnisse und es scheint nicht alles so harmonisch gewesen zu sein wie der Vereinsname vermuten lässt…Seien Sie als Gast und Zeuge mit dabei!\nGenießen Sie eine einmalige Atmosphäre!\nFreuen Sie sich auf einen äußerst erlebnisreichen Abend!\n  \n\nEs erwartet Sie ein spannender Kriminalfall inklusive \n– Willkommens-Sekt \n– Saisonales Krewelshofer Abend-Buffet (Suppe\, Hauptspeisen und Dessertvariationen) \n\n\nEinlass ist ab 17:00 Uhr.
URL:https://erlebnisfaktur.de/veranstaltung/krewelshof-eifel-1/
LOCATION:Krewelshof Eifel\, Krewelshof 1\, Mechernich\, 53894
CATEGORIES:Krimi-Erlebnis
ATTACH;FMTTYPE=image/jpeg:https://erlebnisfaktur.de/wp-content/uploads/Erlebnisfaktur-1.jpg
ORGANIZER;CN="Erlebnisfaktur":MAILTO:info@erlebnisfaktur.de
END:VEVENT
END:VCALENDAR