BEGIN:VCALENDAR
VERSION:2.0
PRODID:-//Erlebnisfaktur - ECPv5.5.0.1//NONSGML v1.0//EN
CALSCALE:GREGORIAN
METHOD:PUBLISH
X-WR-CALNAME:Erlebnisfaktur
X-ORIGINAL-URL:https://erlebnisfaktur.de
X-WR-CALDESC:Veranstaltungen für Erlebnisfaktur
BEGIN:VTIMEZONE
TZID:Europe/Berlin
BEGIN:DAYLIGHT
TZOFFSETFROM:+0100
TZOFFSETTO:+0200
TZNAME:CEST
DTSTART:20230326T010000
END:DAYLIGHT
BEGIN:STANDARD
TZOFFSETFROM:+0200
TZOFFSETTO:+0100
TZNAME:CET
DTSTART:20231029T010000
END:STANDARD
END:VTIMEZONE
BEGIN:VEVENT
DTSTART;VALUE=DATE:20230827
DTEND;VALUE=DATE:20230828
DTSTAMP:20260423T125526
CREATED:20200101T165948Z
LAST-MODIFIED:20200101T165948Z
UID:7471-1693094400-1693180799@erlebnisfaktur.de
SUMMARY:GPS-Erlebnis - "Der geheimnisvolle Dieb"
DESCRIPTION:Zeigt euer Talent als Detektiv!\nBei Oma\, Familie Kehrich und Petra sind einige Dinge verschwunden.\nDas kann doch nur Diebstahl gewesen sein!\nHelft mit\, dem Täter auf die Spur zu kommen!\nAuf unserer Rätsel-Tour im Forstbotanischen Garten könnnt Ihr bestimmt dem geheimnisvollen Dieb auf die Spur kommen und ihn entlarven!
URL:https://erlebnisfaktur.de/veranstaltung/gps-dieb/
LOCATION:Privat\, Deutschland
CATEGORIES:Erlebnis-Kinder
ATTACH;FMTTYPE=image/jpeg:https://erlebnisfaktur.de/wp-content/uploads/Pfoten.jpg
ORGANIZER;CN="Erlebnisfaktur":MAILTO:info@erlebnisfaktur.de
END:VEVENT
END:VCALENDAR