BEGIN:VCALENDAR
VERSION:2.0
PRODID:-//Erlebnisfaktur - ECPv5.5.0.1//NONSGML v1.0//EN
CALSCALE:GREGORIAN
METHOD:PUBLISH
X-WR-CALNAME:Erlebnisfaktur
X-ORIGINAL-URL:https://erlebnisfaktur.de
X-WR-CALDESC:Veranstaltungen für Erlebnisfaktur
BEGIN:VTIMEZONE
TZID:Europe/Berlin
BEGIN:DAYLIGHT
TZOFFSETFROM:+0100
TZOFFSETTO:+0200
TZNAME:CEST
DTSTART:20260329T010000
END:DAYLIGHT
BEGIN:STANDARD
TZOFFSETFROM:+0200
TZOFFSETTO:+0100
TZNAME:CET
DTSTART:20261025T010000
END:STANDARD
END:VTIMEZONE
BEGIN:VEVENT
DTSTART;TZID=Europe/Berlin:20261024T190000
DTEND;TZID=Europe/Berlin:20261024T223000
DTSTAMP:20260420T045533
CREATED:20260216T135032Z
LAST-MODIFIED:20260306T112545Z
UID:8372-1792868400-1792881000@erlebnisfaktur.de
SUMMARY:Event-Krimi "Tödliche Köstlichkeiten"
DESCRIPTION:„Tödliche Köstlichkeiten“ \n  \nDer berühmte Gourmet und Restaurantbesitzer Titus von Markenberg lädt aus Anlass seiner Auszeichnung mit der goldenen Gabel Freunde und Bekannte zu einem exklusiven Dinner ein. \nBei kulinarischen Köstlichkeiten soll außerdem seine Entdeckung der neuesten außergewöhnlichen Geschmackskreationen vorgestellt werden\, die er in Kürze der Öffentlichkeit präsentieren will. \nAber es ist offensichtlich nicht alles so\, wie es scheinen soll.  \nUnd der Abend nimmt einen Verlauf\, den Sie garantiert so nicht erwarten. \nSeien Sie als Gast und Zeuge mit dabei!\nGenießen Sie eine einmalige Atmosphäre!\nFreuen Sie sich auf einen äußerst erlebnisreichen Abend! \n  \nBeginn 19 Uhr\, Einlass ab 18.15 Uhr \nMenü:\n\n\nVorspeise:\n\nCarpaccio vom Rinderfilet mit Rucolasträußchen\, Parmesanspänen und altem Balsamico\n\n\nHauptgang:\n\nMaispoulardenbrust in einer leichten Dijon-Senfsauce mit Blattspinat und Tagliatelle\n\n\nDessert:\n\nDessert Variation: Eine schöne Zusammenstellung von leckeren Süßigkeiten\, Früchten und Schokoladigem\n\n\n\nÄnderungen vorbehalten\, auch ein vegetarisch\, vegan möglich\, Speisenänderungswünsche oder Allergene bitte vorab angeben.\n\nPreise:\n89€ 3-Gang Menü\n129€ 3-Gang Menü inklusive kleiner Weiß-und Rotweinkarte\, Wasser\, Sekt\, Bier\, Softs\, Säfte\, Kaffespezialitäten.\nBuchung über den Ticketshop der Erlebnisfaktur: https://erlebnisfaktur.de/ticketshop/
URL:https://erlebnisfaktur.de/veranstaltung/event-krimi-schloss-auel-2/
LOCATION:Schloss Auel\, Haus Auel 1\, Lohmar-Wahlscheid\, Nordrhein-Westfalen\, 53797\, Deutschland
CATEGORIES:Krimi-Erlebnis
ATTACH;FMTTYPE=image/png:https://erlebnisfaktur.de/wp-content/uploads/Foto-Koestlichkeiten-1.png
ORGANIZER;CN="Erlebnisfaktur":MAILTO:info@erlebnisfaktur.de
END:VEVENT
END:VCALENDAR