BEGIN:VCALENDAR
VERSION:2.0
PRODID:-//Erlebnisfaktur - ECPv5.5.0.1//NONSGML v1.0//EN
CALSCALE:GREGORIAN
METHOD:PUBLISH
X-WR-CALNAME:Erlebnisfaktur
X-ORIGINAL-URL:https://erlebnisfaktur.de
X-WR-CALDESC:Veranstaltungen für Erlebnisfaktur
BEGIN:VTIMEZONE
TZID:Europe/Berlin
BEGIN:DAYLIGHT
TZOFFSETFROM:+0100
TZOFFSETTO:+0200
TZNAME:CEST
DTSTART:20230326T010000
END:DAYLIGHT
BEGIN:STANDARD
TZOFFSETFROM:+0200
TZOFFSETTO:+0100
TZNAME:CET
DTSTART:20231029T010000
END:STANDARD
END:VTIMEZONE
BEGIN:VEVENT
DTSTART;TZID=Europe/Berlin:20230504T190000
DTEND;TZID=Europe/Berlin:20230504T223000
DTSTAMP:20260423T000856
CREATED:20230413T154427Z
LAST-MODIFIED:20230413T154427Z
UID:7489-1683226800-1683239400@erlebnisfaktur.de
SUMMARY:Event-Krimi „Kommissar Landbrenner und die Hochzeit mit Todesfall"
DESCRIPTION:„Kommissar Landbrenner ermittelt… in: Hochzeit mit Todesfall“\nEin weiterer spannender Krimiabend für Hobbyermittler und Genießer. \nZur Jagd nach dem Täter werden Sie mit exklusiv zubereiteten Spezialitäten des Landbrenners verwöhnt. Im Kartenpreis sind ein Begrüßungsgetränk sowie Speisen (3 Gänge) enthalten. \nDer Fall:\nDie Familie derer von Grafental lädt Sie herzlichst ein\,\nanlässlich der Vermählung der jüngsten Tochter Emily von Grafental mit dem bekannten\nInvestmentbanker Marco von Erft anwesend zu sein! \nNehmen Sie am Hochzeitsempfang teil und feiern Sie dieses freudige Erlebnis\nzusammen mit den glücklichen Brauteltern! \nAber lassen Sie sich nicht von den Gerüchten beeindrucken\,\nbei den Geschäften der Familie ginge nicht alles mit rechten Dingen zu!\nWas immer auch der Verlauf des Abends bringt…. \nSeien Sie als Gast und Zeuge mit dabei!\nGenießen Sie eine einmalige Atmosphäre!\nFreuen Sie sich auf einen äußerst erlebnisreichen Abend! \n\n\n\nLüften Sie dabei die Geheimnisse der Verdächtigen und finden Sie den Mörder! \nRestkarten erhalten Sie im Restaurant Landbrenner (sobald dieser Termin dort veröffentlicht wird) \nVeranstaltungsseite Landbrenner
URL:https://erlebnisfaktur.de/veranstaltung/event-krimi-landbrenner-2-2/
LOCATION:Landbrenner – Restaurant im Gut Clarenhof\, Bonnstraße / Gut Clarenhof 6\, Frechen\, NRW\, 50226\, Deutschland
CATEGORIES:Krimi-Erlebnis,Landbrenner
ATTACH;FMTTYPE=image/jpeg:https://erlebnisfaktur.de/wp-content/uploads/Ringe.jpg
ORGANIZER;CN="Erlebnisfaktur":MAILTO:info@erlebnisfaktur.de
END:VEVENT
END:VCALENDAR