BEGIN:VCALENDAR
VERSION:2.0
PRODID:-//Erlebnisfaktur - ECPv5.5.0.1//NONSGML v1.0//EN
CALSCALE:GREGORIAN
METHOD:PUBLISH
X-WR-CALNAME:Erlebnisfaktur
X-ORIGINAL-URL:https://erlebnisfaktur.de
X-WR-CALDESC:Veranstaltungen für Erlebnisfaktur
BEGIN:VTIMEZONE
TZID:Europe/Berlin
BEGIN:DAYLIGHT
TZOFFSETFROM:+0100
TZOFFSETTO:+0200
TZNAME:CEST
DTSTART:20250330T010000
END:DAYLIGHT
BEGIN:STANDARD
TZOFFSETFROM:+0200
TZOFFSETTO:+0100
TZNAME:CET
DTSTART:20251026T010000
END:STANDARD
END:VTIMEZONE
BEGIN:VEVENT
DTSTART;TZID=Europe/Berlin:20251121T183000
DTEND;TZID=Europe/Berlin:20251121T223000
DTSTAMP:20260420T112207
CREATED:20250429T143443Z
LAST-MODIFIED:20250526T151122Z
UID:8112-1763749800-1763764200@erlebnisfaktur.de
SUMMARY:Event-Krimi "Mord mit vier Sternen"
DESCRIPTION:„Mord mit vier Sternen“ \nWillkommen im 4-Sterne-Hotel „Independence“ – wo mit Stil und Genuss das 10-jährige Jubiläum besonders gefeiert werden soll.\nDoch Achtung: Nicht alles ist so glänzend\, wie es scheint.\nZwischen Sektgläsern und Smalltalk brodelt es hinter den Kulissen – Intrigen\, Geheimnisse und alte Feindschaften schwelen zwischen den Angestellten.\nUnd ehe man sich versieht\, kann aus der Feier ein tödliches Versteckspiel werden…\nSind Sie bereit\, hinter die Fassade zu blicken? Entlarven Sie Lügen\, decken Sie dunkle Machenschaften auf – und erleben Sie einen Abend\, den Sie so schnell nicht vergessen werden! \nEinlass ist ab 18:30 Uhr. \nBeginn der Show um 20 Uhr. \nTickets können direkt beim Drehwerk gebucht werden.
URL:https://erlebnisfaktur.de/veranstaltung/event-krimi-drehwerk-2-2-2-2-2-2/
LOCATION:Drehwerk Adendorf\, Töpferstr. 17-19\, Wachtberg\, NRW\, 53343\, Deutschland
CATEGORIES:Krimi-Erlebnis
ATTACH;FMTTYPE=image/png:https://erlebnisfaktur.de/wp-content/uploads/Foto-Hotelkrimi-Tuer.png
ORGANIZER;CN="Erlebnisfaktur":MAILTO:info@erlebnisfaktur.de
END:VEVENT
END:VCALENDAR