BEGIN:VCALENDAR
VERSION:2.0
PRODID:-//Erlebnisfaktur - ECPv5.5.0.1//NONSGML v1.0//EN
CALSCALE:GREGORIAN
METHOD:PUBLISH
X-WR-CALNAME:Erlebnisfaktur
X-ORIGINAL-URL:https://erlebnisfaktur.de
X-WR-CALDESC:Veranstaltungen für Erlebnisfaktur
BEGIN:VTIMEZONE
TZID:Europe/Berlin
BEGIN:DAYLIGHT
TZOFFSETFROM:+0100
TZOFFSETTO:+0200
TZNAME:CEST
DTSTART:20260329T010000
END:DAYLIGHT
BEGIN:STANDARD
TZOFFSETFROM:+0200
TZOFFSETTO:+0100
TZNAME:CET
DTSTART:20261025T010000
END:STANDARD
END:VTIMEZONE
BEGIN:VEVENT
DTSTART;TZID=Europe/Berlin:20260410T183000
DTEND;TZID=Europe/Berlin:20260410T223000
DTSTAMP:20260420T111617
CREATED:20251204T142422Z
LAST-MODIFIED:20260306T114150Z
UID:8382-1775845800-1775860200@erlebnisfaktur.de
SUMMARY:Event-Krimi "Tod am Mikrofon"
DESCRIPTION:„Tod am Mikrofon“ \nWillkommen im „Schlagerstübchen“ zum Abend des Jahres: Ein neuer Hit soll Premiere feiern\, die Stimmung ist ausgelassen\, der Saal funkelt im Glanz der Scheinwerfer.\nDer charismatische Moderator Silvio Amoretto begrüßt die Stars hautnah und zum Anfassen.\nHier sind alle dabei: Die nicht ganz so großen Stimmen\, die großen Stimmen von morgen und die von gestern.\nDoch der Traum vom großen Erfolg endet abrupt und zurück bleiben Schock\, Ratlosigkeit… und tödliche Geheimnisse.\nFreuen Sie sich auf eine unvergessliche Show voller Spannung\, Intrigen und Überraschungen in der funkelnden\, aber auch abgründige Welt des Schlagers!\nEin Abend\, der garantiert nicht leise endet! \nEinlass ist ab 18:30 Uhr. \nBeginn der Show um 20 Uhr. \nTickets können direkt beim Drehwerk gebucht werden.
URL:https://erlebnisfaktur.de/veranstaltung/event-krimi-drehwerk-2-2-2-2-2-2-2/
LOCATION:Drehwerk Adendorf\, Töpferstr. 17-19\, Wachtberg\, NRW\, 53343\, Deutschland
CATEGORIES:Krimi-Erlebnis
ATTACH;FMTTYPE=image/jpeg:https://erlebnisfaktur.de/wp-content/uploads/goldenes-mikrofon.jpg
ORGANIZER;CN="Erlebnisfaktur":MAILTO:info@erlebnisfaktur.de
END:VEVENT
END:VCALENDAR